BEGIN:VCALENDAR
VERSION:2.0
PRODID:floktu.com
X-WR-TIMEZONE:Australia/Sydney
X-PUBLISHED-TTL:P1W
BEGIN:VEVENT
UID:FloktuSchedule18716@floktu.com
DTSTART;TZID=Australia/Sydney:20141005T140000
SEQUENCE:0
TRANSP:OPAQUE
DTEND;TZID=Australia/Sydney:20141005T150000
LOCATION:Gun Club\, 55 Watt St\, Newcastle\, New South Wales
SUMMARY:This is Not Art - Cultural Hierarchies in Music
DESCRIPTION:Why is rock valued more highly than pop and folk valued more th
 an rap? This panel explores cultural hierarchies in music and how new crit
 ics are challenging the status quo. Supported by QLD Writers' Centre.
DTSTAMP:20260423T083248Z
END:VEVENT
BEGIN:VTIMEZONE
TZID:Australia/Sydney
X-LIC-LOCATION:Australia/Sydney
END:VTIMEZONE
END:VCALENDAR