BEGIN:VCALENDAR
VERSION:2.0
PRODID:floktu.com
X-PUBLISHED-TTL:P1W
BEGIN:VEVENT
UID:FloktuSchedule18714@floktu.com
DTSTART:20141004T010000Z
SEQUENCE:0
TRANSP:OPAQUE
DTEND:20141004T020000Z
LOCATION:Gun Club\, 55 Watt St\, Newcastle\, New South Wales
SUMMARY:This is Not Art - When It's Time To Stop
DESCRIPTION:We're all doing seven things at once\, thats part of the creati
 ve lifestyle\, right? Are nervous breakdowns just part of it too? These wr
 iters share their horror stories and when its ok to say no.
DTSTAMP:20260423T001528Z
END:VEVENT
END:VCALENDAR